Workbook

Sheet Completa
A1: TABELA DE CUSTAS COMPLETAS DO PROTESTO 2026 v. 1
A2: Maringá, PR, 28 de abril de 2026
A3: VRC | B3: 0.277
A4: ISS | B4: 0.02
C5: Valor do título
C6: De | D6: Até | E6: Emolumentos Protesto1 | F6: ISS Protesto2 | G6: FUNDEP Protesto3 | H6: FUNREJUS Protesto4 | I6: FUNARPEN Protesto (selo)5 | J6: Emolumentos, ISS, FUNDEP e FUNARPEN (selo) Distribuidor e Contador6 | K6: TOTAL SEM FUNREJUS VARIÁVEL7 | L6: TOTAL, QUANDO FIXO7
A7: III a Tabela XIV | B7: Remessa da intimação 1 (urbano até 10 km)8 | E7: =80*B3 -> 22.16 | F7: =E7*B4 -> 0.44 | G7: =E7*5% -> 1.11 | L7: =SUM(E7:J7) -> 23.71
A8: III b Tabela XIV | B8: Remessa da intimação 2 (urbano mais de 10 km ou rural)9 | E8: =150*B3 -> 41.55 | F8: =E8*B4 -> 0.83 | G8: =E8*5% -> 2.08 | L8: =SUM(E8:J8) -> 44.46
A9: IX Tabela XIV | B9: Digitalização10 | E9: =3*B3 -> 0.83 | F9: =E9*B4 -> 0.02 | G9: =E9*5% -> 0.04 | I9: 0.25 | L9: =SUM(E9:J9) -> 1.14
A10: I | B10: Anotação ou Protesto | C10: 0 | D10: 192.78 | E10: =180*B3 -> 49.86 | F10: =E10*B4 -> 1 | G10: =E10*5% -> 2.49 | H10: variável | I10: 4 | J10: ='Distribuidor e Contador'!L10 -> 13.04 | K10: =SUM(E10:J10) -> 70.39
A11: I | B11: Anotação ou Protesto | C11: =D10+0.01 -> 192.79 | D11: 1928.1 | E11: =180*B3 -> 49.86 | F11: =E11*B4 -> 1 | G11: =E11*5% -> 2.49 | H11: variável | I11: 4 | J11: ='Distribuidor e Contador'!L11 -> 13.04 | K11: =SUM(E11:J11) -> 70.39
A12: I | B12: Anotação ou Protesto | C12: =D11+0.01 -> 1928.11 | D12: =12000*B3 -> 3324 | E12: =180*B3 -> 49.86 | F12: =E12*B4 -> 1 | G12: =E12*5% -> 2.49 | H12: variável | I12: 4 | J12: ='Distribuidor e Contador'!L12 -> 13.04 | K12: =SUM(E12:J12) -> 70.39
A13: I | B13: Anotação ou Protesto | C13: =D12+0.01 -> 3324.01 | D13: =16000*B3 -> 4432 | E13: =240*B3 -> 66.48 | F13: =E13*B4 -> 1.33 | G13: =E13*5% -> 3.32 | H13: variável | I13: 4 | J13: ='Distribuidor e Contador'!L13 -> 13.04 | K13: =SUM(E13:J13) -> 88.17
A14: I | B14: Anotação ou Protesto | C14: =D13+0.01 -> 4432.01 | D14: =24000*B3 -> 6648 | E14: =360*B3 -> 99.72 | F14: =E14*B4 -> 1.99 | G14: =E14*5% -> 4.99 | H14: variável | I14: 4 | J14: ='Distribuidor e Contador'!L14 -> 13.04 | K14: =SUM(E14:J14) -> 123.74
A15: I | B15: Anotação ou Protesto | C15: =D14+0.01 -> 6648.01 | D15: =32000*B3 -> 8864 | E15: =480*B3 -> 132.96 | F15: =E15*B4 -> 2.66 | G15: =E15*5% -> 6.65 | H15: variável | I15: 4 | J15: ='Distribuidor e Contador'!L15 -> 13.04 | K15: =SUM(E15:J15) -> 159.31
A16: I | B16: Anotação ou Protesto | C16: =D15+0.01 -> 8864.01 | D16: =40000*B3 -> 11080 | E16: =530*B3 -> 146.81 | F16: =E16*B4 -> 2.94 | G16: =E16*5% -> 7.34 | H16: variável | I16: 4 | J16: ='Distribuidor e Contador'!L16 -> 13.04 | K16: =SUM(E16:J16) -> 174.13
A17: I | B17: Anotação ou Protesto | C17: =D16+0.01 -> 11080.01 | D17: =48000*B3 -> 13296 | E17: =580*B3 -> 160.66 | F17: =E17*B4 -> 3.21 | G17: =E17*5% -> 8.03 | H17: variável | I17: 4 | J17: ='Distribuidor e Contador'!L17 -> 13.04 | K17: =SUM(E17:J17) -> 188.94
A18: I | B18: Anotação ou Protesto | C18: =D17+0.01 -> 13296.01 | D18: =56000*B3 -> 15512 | E18: =630*B3 -> 174.51 | F18: =E18*B4 -> 3.49 | G18: =E18*5% -> 8.73 | H18: variável | I18: 4 | J18: ='Distribuidor e Contador'!L18 -> 13.04 | K18: =SUM(E18:J18) -> 203.77
A19: I | B19: Anotação ou Protesto | C19: =D18+0.01 -> 15512.01 | D19: =64000*B3 -> 17728 | E19: =680*B3 -> 188.36 | F19: =E19*B4 -> 3.77 | G19: =E19*5% -> 9.42 | H19: variável | I19: 4 | J19: ='Distribuidor e Contador'!L19 -> 13.04 | K19: =SUM(E19:J19) -> 218.59
A20: I | B20: Anotação ou Protesto | C20: =D19+0.01 -> 17728.01 | D20: =72000*B3 -> 19944 | E20: =730*B3 -> 202.21 | F20: =E20*B4 -> 4.04 | G20: =E20*5% -> 10.11 | H20: variável | I20: 4 | J20: ='Distribuidor e Contador'!L20 -> 13.04 | K20: =SUM(E20:J20) -> 233.4
A21: I | B21: Anotação ou Protesto | C21: =D20+0.01 -> 19944.01 | D21: =80000*B3 -> 22160 | E21: =780*B3 -> 216.06 | F21: =E21*B4 -> 4.32 | G21: =E21*5% -> 10.8 | H21: variável | I21: 4 | J21: ='Distribuidor e Contador'!L21 -> 13.04 | K21: =SUM(E21:J21) -> 248.22
A22: I | B22: Anotação ou Protesto | C22: =D21+0.01 -> 22160.01 | E22: =830*B3 -> 229.91 | F22: =E22*B4 -> 4.6 | G22: =E22*5% -> 11.5 | H22: variável | I22: 4 | J22: ='Distribuidor e Contador'!L22 -> 13.04 | K22: =SUM(E22:J22) -> 263.05
A23: II | B23: Intimação | E23: =80*B3 -> 22.16 | F23: =E23*B4 -> 0.44 | G23: =E23*5% -> 1.11 | I23: 1 | L23: =SUM(E23:J23) -> 24.71
A24: I + II + III a + IX | B24: Anotação + Intimação + Remessa 1 + Digitalização | C24: 0 | D24: =D10 -> 192.78 | E24: =E7+E9+E10+E23 -> 95.01 | F24: =E24*B4 -> 1.9 | G24: =E24*5% -> 4.75 | H24: variável | I24: =I7+I9+I10+I23 -> 5.25 | J24: =J7+J9+J10+J23 -> 13.04 | K24: =SUM(E24:J24) -> 119.95
A25: I + II + III a + IX | B25: Anotação + Intimação + Remessa 1 + Digitalização | C25: =D24+0.01 -> 192.79 | D25: =D11 -> 1928.1 | E25: =E7+E9+E11+E23 -> 95.01 | F25: =E25*B4 -> 1.9 | G25: =E25*5% -> 4.75 | H25: variável | I25: =I7+I9+I11+I23 -> 5.25 | J25: =J7+J9+J11+J23 -> 13.04 | K25: =SUM(E25:J25) -> 119.95
A26: I + II + III a + IX | B26: Anotação + Intimação + Remessa 1 + Digitalização | C26: =D25+0.01 -> 1928.11 | D26: =12000*B3 -> 3324 | E26: =E7+E9+E12+E23 -> 95.01 | F26: =E26*B4 -> 1.9 | G26: =E26*5% -> 4.75 | H26: variável | I26: =I7+I9+I12+I23 -> 5.25 | J26: =J7+J9+J12+J23 -> 13.04 | K26: =SUM(E26:J26) -> 119.95
A27: I + II + III a + IX | B27: Anotação + Intimação + Remessa 1 + Digitalização | C27: =D26+0.01 -> 3324.01 | D27: =16000*B3 -> 4432 | E27: =E7+E9+E13+E23 -> 111.63 | F27: =E27*B4 -> 2.23 | G27: =E27*5% -> 5.58 | H27: variável | I27: =I7+I9+I13+I23 -> 5.25 | J27: =J7+J9+J13+J23 -> 13.04 | K27: =SUM(E27:J27) -> 137.73
A28: I + II + III a + IX | B28: Anotação + Intimação + Remessa 1 + Digitalização | C28: =D27+0.01 -> 4432.01 | D28: =24000*B3 -> 6648 | E28: =E7+E9+E14+E23 -> 144.87 | F28: =E28*B4 -> 2.9 | G28: =E28*5% -> 7.24 | H28: variável | I28: =I7+I9+I14+I23 -> 5.25 | J28: =J7+J9+J14+J23 -> 13.04 | K28: =SUM(E28:J28) -> 173.3
A29: I + II + III a + IX | B29: Anotação + Intimação + Remessa 1 + Digitalização | C29: =D28+0.01 -> 6648.01 | D29: =32000*B3 -> 8864 | E29: =E7+E9+E15+E23 -> 178.11 | F29: =E29*B4 -> 3.56 | G29: =E29*5% -> 8.91 | H29: variável | I29: =I7+I9+I15+I23 -> 5.25 | J29: =J7+J9+J15+J23 -> 13.04 | K29: =SUM(E29:J29) -> 208.87
A30: I + II + III a + IX | B30: Anotação + Intimação + Remessa 1 + Digitalização | C30: =D29+0.01 -> 8864.01 | D30: =40000*B3 -> 11080 | E30: =E7+E9+E16+E23 -> 191.96 | F30: =E30*B4 -> 3.84 | G30: =E30*5% -> 9.6 | H30: variável | I30: =I7+I9+I16+I23 -> 5.25 | J30: =J7+J9+J16+J23 -> 13.04 | K30: =SUM(E30:J30) -> 223.69
A31: I + II + III a + IX | B31: Anotação + Intimação + Remessa 1 + Digitalização | C31: =D30+0.01 -> 11080.01 | D31: =48000*B3 -> 13296 | E31: =E7+E9+E17+E23 -> 205.81 | F31: =E31*B4 -> 4.12 | G31: =E31*5% -> 10.29 | H31: variável | I31: =I7+I9+I17+I23 -> 5.25 | J31: =J7+J9+J17+J23 -> 13.04 | K31: =SUM(E31:J31) -> 238.51
A32: I + II + III a + IX | B32: Anotação + Intimação + Remessa 1 + Digitalização | C32: =D31+0.01 -> 13296.01 | D32: =56000*B3 -> 15512 | E32: =E7+E9+E18+E23 -> 219.66 | F32: =E32*B4 -> 4.39 | G32: =E32*5% -> 10.98 | H32: variável | I32: =I7+I9+I18+I23 -> 5.25 | J32: =J7+J9+J18+J23 -> 13.04 | K32: =SUM(E32:J32) -> 253.32
A33: I + II + III a + IX | B33: Anotação + Intimação + Remessa 1 + Digitalização | C33: =D32+0.01 -> 15512.01 | D33: =64000*B3 -> 17728 | E33: =E7+E9+E19+E23 -> 233.51 | F33: =E33*B4 -> 4.67 | G33: =E33*5% -> 11.68 | H33: variável | I33: =I7+I9+I19+I23 -> 5.25 | J33: =J7+J9+J19+J23 -> 13.04 | K33: =SUM(E33:J33) -> 268.15
A34: I + II + III a + IX | B34: Anotação + Intimação + Remessa 1 + Digitalização | C34: =D33+0.01 -> 17728.01 | D34: =72000*B3 -> 19944 | E34: =E7+E9+E20+E23 -> 247.36 | F34: =E34*B4 -> 4.95 | G34: =E34*5% -> 12.37 | H34: variável | I34: =I7+I9+I20+I23 -> 5.25 | J34: =J7+J9+J20+J23 -> 13.04 | K34: =SUM(E34:J34) -> 282.97
A35: I + II + III a + IX | B35: Anotação + Intimação + Remessa 1 + Digitalização | C35: =D34+0.01 -> 19944.01 | D35: =80000*B3 -> 22160 | E35: =E7+E9+E21+E23 -> 261.21 | F35: =E35*B4 -> 5.22 | G35: =E35*5% -> 13.06 | H35: variável | I35: =I7+I9+I21+I23 -> 5.25 | J35: =J7+J9+J21+J23 -> 13.04 | K35: =SUM(E35:J35) -> 297.78
A36: I + II + III a + IX | B36: Anotação + Intimação + Remessa 1 + Digitalização | C36: =D35+0.01 -> 22160.01 | E36: =E7+E9+E22+E23 -> 275.06 | F36: =E36*B4 -> 5.5 | G36: =E36*5% -> 13.75 | H36: variável | I36: =I7+I9+I22+I23 -> 5.25 | J36: =J7+J9+J22+J23 -> 13.04 | K36: =SUM(E36:J36) -> 312.6
A38: I + II + III b + IX | B38: Anotação + Intimação + Remessa 2 + Digitalização | C38: 0 | D38: =D10 -> 192.78 | E38: =E8+E9+E10+E23 -> 114.4 | F38: =E38*B4 -> 2.29 | G38: =E38*5% -> 5.72 | H38: variável | I38: =I8+I9+I10+I23 -> 5.25 | J38: =J8+J9+J10+J23 -> 13.04 | K38: =SUM(E38:J38) -> 140.7
A39: I + II + III b + IX | B39: Anotação + Intimação + Remessa 2 + Digitalização | C39: =D38+0.01 -> 192.79 | D39: =D11 -> 1928.1 | E39: =E8+E9+E11+E23 -> 114.4 | F39: =E39*B4 -> 2.29 | G39: =E39*5% -> 5.72 | H39: variável | I39: =I8+I9+I11+I23 -> 5.25 | J39: =J8+J9+J11+J23 -> 13.04 | K39: =SUM(E39:J39) -> 140.7
A40: I + II + III b + IX | B40: Anotação + Intimação + Remessa 2 + Digitalização | C40: =D39+0.01 -> 1928.11 | D40: =12000*B3 -> 3324 | E40: =E8+E9+E12+E23 -> 114.4 | F40: =E40*B4 -> 2.29 | G40: =E40*5% -> 5.72 | H40: variável | I40: =I8+I9+I12+I23 -> 5.25 | J40: =J8+J9+J12+J23 -> 13.04 | K40: =SUM(E40:J40) -> 140.7
A41: I + II + III b + IX | B41: Anotação + Intimação + Remessa 2 + Digitalização | C41: =D40+0.01 -> 3324.01 | D41: =16000*B3 -> 4432 | E41: =E8+E9+E13+E23 -> 131.02 | F41: =E41*B4 -> 2.62 | G41: =E41*5% -> 6.55 | H41: variável | I41: =I8+I9+I13+I23 -> 5.25 | J41: =J8+J9+J13+J23 -> 13.04 | K41: =SUM(E41:J41) -> 158.48
...

Sheet Distribuidor e Contador
A1: TABELA DE CUSTAS DO DISTRIBUIDOR E CONTADOR 2026 v. 1
A2: Maringá, PR, 27 de abril de 2026
A3: VRC | B3: =Completa!B3 -> 0.277
A4: ISS | B4: =[1]Completa!B4 -> 0.02
C5: Valor do título
C6: De | D6: Até | E6: EmolumentosDistribuição + 10% Processamento de Dados1 | F6: Emolumentos Averbação + 10% Processamento de Dados1 | G6: Emolumentos Baixa ou Retficação + 10% Processamento de Dados1 | H6: Emolumentos Cálculo + 10% Processamento de Dados2 | I6: ISS Distribuidor e Contador3 | J6: FUNDEP Distribuidor e Contador4 | K6: FUNARPEN Distribuidor (selo)5 6 | L6: TOTAL
C10: 0 | D10: 192.78 | H10: =44*B3 -> 12.19 | I10: =SUM(E10+F10+G10+H10)*B4 -> 0.24 | J10: =SUM(E10+F10+G10+H10)*5% -> 0.61 | L10: =SUM(E10:K10) -> 13.04
C11: =D10+0.01 -> 192.79 | D11: 1928.1 | H11: =44*B3 -> 12.19 | I11: =SUM(E11+F11+G11+H11)*B4 -> 0.24 | J11: =SUM(E11+F11+G11+H11)*5% -> 0.61 | L11: =SUM(E11:K11) -> 13.04
C12: =D11+0.01 -> 1928.11 | D12: =12000*B3 -> 3324 | H12: =44*B3 -> 12.19 | I12: =SUM(E12+F12+G12+H12)*B4 -> 0.24 | J12: =SUM(E12+F12+G12+H12)*5% -> 0.61 | L12: =SUM(E12:K12) -> 13.04
C13: =D12+0.01 -> 3324.01 | D13: =16000*B3 -> 4432 | H13: =44*B3 -> 12.19 | I13: =SUM(E13+F13+G13+H13)*B4 -> 0.24 | J13: =SUM(E13+F13+G13+H13)*5% -> 0.61 | L13: =SUM(E13:K13) -> 13.04
C14: =D13+0.01 -> 4432.01 | D14: =24000*B3 -> 6648 | H14: =44*B3 -> 12.19 | I14: =SUM(E14+F14+G14+H14)*B4 -> 0.24 | J14: =SUM(E14+F14+G14+H14)*5% -> 0.61 | L14: =SUM(E14:K14) -> 13.04
C15: =D14+0.01 -> 6648.01 | D15: =32000*B3 -> 8864 | H15: =44*B3 -> 12.19 | I15: =SUM(E15+F15+G15+H15)*B4 -> 0.24 | J15: =SUM(E15+F15+G15+H15)*5% -> 0.61 | L15: =SUM(E15:K15) -> 13.04
C16: =D15+0.01 -> 8864.01 | D16: =40000*B3 -> 11080 | H16: =44*B3 -> 12.19 | I16: =SUM(E16+F16+G16+H16)*B4 -> 0.24 | J16: =SUM(E16+F16+G16+H16)*5% -> 0.61 | L16: =SUM(E16:K16) -> 13.04
C17: =D16+0.01 -> 11080.01 | D17: =48000*B3 -> 13296 | H17: =44*B3 -> 12.19 | I17: =SUM(E17+F17+G17+H17)*B4 -> 0.24 | J17: =SUM(E17+F17+G17+H17)*5% -> 0.61 | L17: =SUM(E17:K17) -> 13.04
C18: =D17+0.01 -> 13296.01 | D18: =56000*B3 -> 15512 | H18: =44*B3 -> 12.19 | I18: =SUM(E18+F18+G18+H18)*B4 -> 0.24 | J18: =SUM(E18+F18+G18+H18)*5% -> 0.61 | L18: =SUM(E18:K18) -> 13.04
C19: =D18+0.01 -> 15512.01 | D19: =64000*B3 -> 17728 | H19: =44*B3 -> 12.19 | I19: =SUM(E19+F19+G19+H19)*B4 -> 0.24 | J19: =SUM(E19+F19+G19+H19)*5% -> 0.61 | L19: =SUM(E19:K19) -> 13.04
C20: =D19+0.01 -> 17728.01 | D20: =72000*B3 -> 19944 | H20: =44*B3 -> 12.19 | I20: =SUM(E20+F20+G20+H20)*B4 -> 0.24 | J20: =SUM(E20+F20+G20+H20)*5% -> 0.61 | L20: =SUM(E20:K20) -> 13.04
C21: =D20+0.01 -> 19944.01 | D21: =80000*B3 -> 22160 | H21: =44*B3 -> 12.19 | I21: =SUM(E21+F21+G21+H21)*B4 -> 0.24 | J21: =SUM(E21+F21+G21+H21)*5% -> 0.61 | L21: =SUM(E21:K21) -> 13.04
C22: =D21+0.01 -> 22160.01 | H22: =44*B3 -> 12.19 | I22: =SUM(E22+F22+G22+H22)*B4 -> 0.24 | J22: =SUM(E22+F22+G22+H22)*5% -> 0.61 | L22: =SUM(E22:K22) -> 13.04
A24: 1PP 0008386-14.2021.2.00.0000/CNJ; SEI 0062660-85.2022.8.16.6000/TJPR
A25: 2Leis Estaduais 6.149/1970, 19.350/2017 e 21.868/2023
A26: 3Maringá: art. 57-A da Lei Complementar Municipal 677/2007, acrescido pelo art. 1º da Lei Complementar Municipal 1.099/2017: 2%; art. 49-A da Lei Estadual 6.149/1970, inserido pelo art. 6º da Lei Estadual 19.350/2017
A27: 4Fundo de Aparelhamento da Defensoria Pública do Estado: art. 230, XII e § 2º, da Lei Complementar Estadual 136/2011, com a redação dada pela Lei Complementar Estadual 207/2018
A28: 5Lei Estadual 13.228/2001
A29: 6SEI 0062660-85.2022.8.16.6000/TJPR
